BEGIN:VCALENDAR
PRODID:-//Conmee Township//MUNICIPAL CMS//EN
VERSION:2.0
METHOD:PUBLISH
BEGIN:VTIMEZONE
TZID:Eastern Standard Time
BEGIN:STANDARD
DTSTART:16011104T020000
RRULE:FREQ=YEARLY;BYDAY=1SU;BYMONTH=11
TZOFFSETFROM:-0500
TZOFFSETTO:-0600
END:STANDARD
BEGIN:DAYLIGHT
DTSTART:16010311T020000
RRULE:FREQ=YEARLY;BYDAY=2SU;BYMONTH=3
TZOFFSETFROM:-0600
TZOFFSETTO:-0500
END:DAYLIGHT
END:VTIMEZONE
BEGIN:VEVENT
DTSTART;TZID="Eastern Standard Time":20220927T000000Z
DTEND;TZID="Eastern Standard Time":20220927T235900Z
DTSTAMP:20260421T185741Z
UID:62794e73-1c99-44a2-98b6-9a9665b51710
CREATED:20260421T185741Z
X-ALT-DESC;FMTTYPE=text/html:<!DOCTYPE HTML PUBLIC "-//W3C//DTD HTML 3.2//EN">\n<HTML>\n<HEAD>\n<TITLE></TITLE>\n</HEAD>\n<BODY>\n<!-- Converted from text/rtf format -->\n\n<P DIR=LTR><SPAN LANG="en-us"><FONT FACE="Calibri">Office closed</FONT></SPAN></P>\n\n</BODY>\n</HTML>
DESCRIPTION:Office closed
LAST-MODIFIED:20260421T185741Z
SEQUENCE:0
STATUS:CONFIRMED
SUMMARY:Office closed
TRANSP:OPAQUE
END:VEVENT
END:VCALENDAR
