BEGIN:VCALENDAR
PRODID:-//Conmee Township//MUNICIPAL CMS//EN
VERSION:2.0
METHOD:PUBLISH
BEGIN:VTIMEZONE
TZID:Eastern Standard Time
BEGIN:STANDARD
DTSTART:16011104T020000
RRULE:FREQ=YEARLY;BYDAY=1SU;BYMONTH=11
TZOFFSETFROM:-0500
TZOFFSETTO:-0600
END:STANDARD
BEGIN:DAYLIGHT
DTSTART:16010311T020000
RRULE:FREQ=YEARLY;BYDAY=2SU;BYMONTH=3
TZOFFSETFROM:-0600
TZOFFSETTO:-0500
END:DAYLIGHT
END:VTIMEZONE
BEGIN:VEVENT
DTSTART;TZID="Eastern Standard Time":20220914T180000Z
DTEND;TZID="Eastern Standard Time":20220914T190000Z
DTSTAMP:20260421T185529Z
UID:654260f5-2a0d-40ec-b313-43e3871b040c
CREATED:20260421T185529Z
X-ALT-DESC;FMTTYPE=text/html:<!DOCTYPE HTML PUBLIC "-//W3C//DTD HTML 3.2//EN">\n<HTML>\n<HEAD>\n<TITLE></TITLE>\n</HEAD>\n<BODY>\n<!-- Converted from text/rtf format -->\n\n<P DIR=LTR><SPAN LANG="en-us"><FONT FACE="Calibri">Wednesday September 14th – 6:00PM – Ministry of Finance Presentation – 2 Topics<br>TOPIC 1: From a Maze to Amazing - Understanding Ontario’s Personal Income Tax, Credits and Benefits:<br>•	Learn more about Ontario’s personal income tax<br>•	Find out which tax credits and benefits you and your family may qualify for.<br>TOPIC 2: Introduction to Ontario’s Estate Administration Tax:<br>•	Discover how this provincial tax fits into the estate planning and administration puzzle.<br></FONT></SPAN></P>\n\n</BODY>\n</HTML>
DESCRIPTION:Wednesday September 14th – 6:00PM – Ministry of Finance Presentation – 2 Topics\nTOPIC 1: From a Maze to Amazing - Understanding Ontario’s Personal Income Tax, Credits and Benefits:\n•	Learn more about Ontario’s personal income tax\n•	Find out which tax credits and benefits you and your family may qualify for.\nTOPIC 2: Introduction to Ontario’s Estate Administration Tax:\n•	Discover how this provincial tax fits into the estate planning and administration puzzle.\n
LAST-MODIFIED:20260421T185529Z
SEQUENCE:0
STATUS:CONFIRMED
SUMMARY:Ministry of Finance
TRANSP:OPAQUE
END:VEVENT
END:VCALENDAR
