BEGIN:VCALENDAR
PRODID:-//Conmee Township//MUNICIPAL CMS//EN
VERSION:2.0
METHOD:PUBLISH
BEGIN:VTIMEZONE
TZID:Eastern Standard Time
BEGIN:STANDARD
DTSTART:16011104T020000
RRULE:FREQ=YEARLY;BYDAY=1SU;BYMONTH=11
TZOFFSETFROM:-0500
TZOFFSETTO:-0600
END:STANDARD
BEGIN:DAYLIGHT
DTSTART:16010311T020000
RRULE:FREQ=YEARLY;BYDAY=2SU;BYMONTH=3
TZOFFSETFROM:-0600
TZOFFSETTO:-0500
END:DAYLIGHT
END:VTIMEZONE
BEGIN:VEVENT
DTSTART;TZID="Eastern Standard Time":20220921T180000Z
DTEND;TZID="Eastern Standard Time":20220921T190000Z
DTSTAMP:20260421T185544Z
UID:d0c549e6-f2fd-41be-af6f-68a0e1a02de3
CREATED:20260421T185544Z
X-ALT-DESC;FMTTYPE=text/html:<!DOCTYPE HTML PUBLIC "-//W3C//DTD HTML 3.2//EN">\n<HTML>\n<HEAD>\n<TITLE></TITLE>\n</HEAD>\n<BODY>\n<!-- Converted from text/rtf format -->\n\n<P DIR=LTR><SPAN LANG="en-us"><FONT FACE="Calibri">FREE SEMINAR SERIES!<br>Please contact Conmee Municipal Office to RSVP: (807)475-5229 or deputyct@conmee.com<br>Events with no RSVPs will be cancelled 1 week prior <br>*Refreshments will be provided* <br><br>Wednesday September 21st – 6:00PM – <br>Municipal Property Assessment Corporation (MPAC)<br>Come learn the ABCs of Property Assessment and Taxation while Sharla Knapton answers some commonly asks questions regarding assessment, what you can do if you disagree with an assessment, and how assessment affects taxation!<br><br><br>To see the rest of the <br>upcoming events,         <br>see our website <br>www.conmee.com <br>or check out our  Facebook page!<br></FONT></SPAN></P>\n\n</BODY>\n</HTML>
DESCRIPTION:FREE SEMINAR SERIES!\nPlease contact Conmee Municipal Office to RSVP: (807)475-5229 or deputyct@conmee.com\nEvents with no RSVPs will be cancelled 1 week prior \n*Refreshments will be provided* \n\nWednesday September 21st – 6:00PM – \nMunicipal Property Assessment Corporation (MPAC)\nCome learn the ABCs of Property Assessment and Taxation while Sharla Knapton answers some commonly asks questions regarding assessment, what you can do if you disagree with an assessment, and how assessment affects taxation!\n\n\nTo see the rest of the \nupcoming events,         \nsee our website \nwww.conmee.com \nor check out our  Facebook page!\n
LAST-MODIFIED:20260421T185544Z
SEQUENCE:0
STATUS:CONFIRMED
SUMMARY:MPAC session
TRANSP:OPAQUE
END:VEVENT
END:VCALENDAR
